BEGIN:VCALENDAR
VERSION:2.0
PRODID:-//eventon.com NONSGML v1.0//EN
BEGIN:VEVENT
UID:69e67c4737e22
DTSTAMP:20260420T211935
DTSTART:20261016T220000Z
DTEND:20261017T215900Z
LOCATION:Turnhallen BBZ Biel\,  Wasenstrasse 11\,  2504 Biel 
SUMMARY:Gemeinsamer Kreiskurs Jugend/Aktive 2026
DESCRIPTION: KursbeschreibungDer Kurs gibt den Leiterinnen und Leitern Ideen und Tipps für die eigenen Turnstunden in den Vereinen. Die Teilnehmer können ihren Stundenplan aus verschiedenen Wahllektionen selber zusammenstellen. Pro Lektion gibt es eine max. Teilnehmerzahl.Der Besuch des Kreiskurses berechtigt nicht die Auffrischung für die J+S Anerkennung.Ein J+S Modul Fortbildung Jugend Turnen[..]
END:VEVENT
END:VCALENDAR