BEGIN:VCALENDAR
VERSION:2.0
PRODID:-//eventon.com NONSGML v1.0//EN
BEGIN:VEVENT
UID:69e694a827a39
DTSTAMP:20260420T230336
DTSTART:20260123T220000Z
DTEND:20260124T215900Z
LOCATION:Sporthalle Esplanade\,  Silbergasse 44\,  2502 Biel 
SUMMARY:Cup Biel-Bienne
DESCRIPTION: Qualifikations-Wettkampf der Rhythmischen Gymnastik organisiert von Gym Biel-Bienne.Alle Informationen und Anmeldung sind in der Ausschreibung zu finden oder auf der Homepage des Organisators.AusschreibungStartlisteRotationenKampfgerichtDen Link zum Ksis-Event (inkl. Einladung) findet ihr HIER.
END:VEVENT
END:VCALENDAR