BEGIN:VCALENDAR
VERSION:2.0
PRODID:-//eventon.com NONSGML v1.0//EN
BEGIN:VEVENT
UID:69e6aab454d9a
DTSTAMP:20260421T003740
DTSTART:20260520T160000Z
DTEND:20260520T200000Z
LOCATION:Schulanlage Geisshubel Zollikofen 
SUMMARY:Fit und Fun Wettkampfabend 2026
DESCRIPTION: Der Turnverein Münchenbuchsee führt in Zusammenarbeit mit dem TBM und TBS einen Fit und Fun Wettkampfabend als Vorbereitung auf die Turnfeste durch. Das Ziel dieses Wettkampfes ist es\,  den Vereinen eine Möglichkeit zu geben sich mit anderen Gruppen vor den Turnfesten zu messen. Zeitgleich können sich die Schiedsrichter auf Ihren[..]
END:VEVENT
END:VCALENDAR