BEGIN:VCALENDAR
VERSION:2.0
PRODID:-//eventon.com NONSGML v1.0//EN
BEGIN:VEVENT
UID:69e88a0a407b2
DTSTAMP:20260422T104250
DTSTART:20260325T160000Z
DTEND:20260325T200000Z
LOCATION:
SUMMARY:TBS Frühlingskonferenz 2026
DESCRIPTION: Genaue Angaben folgen. Reserviert euch bereits jetzt das Datum. Danke
END:VEVENT
END:VCALENDAR