BEGIN:VCALENDAR
VERSION:2.0
PRODID:-//eventon.com NONSGML v1.0//EN
BEGIN:VEVENT
UID:69e88a35f1d74
DTSTAMP:20260422T104333
DTSTART:20260425T220000Z
DTEND:20260426T215900Z
LOCATION:Burgdorf\,  Schützenmatte 
SUMMARY:TBOE Jugendmeisterschaften Einzelgeräteturnen
DESCRIPTION: Die Vereine TV Oberburg und FTV Burgdorf organisieren die Jugendmeisterschaften EGTAlle Informationen sind in der Ausschreibung und WKV aufgeführt.AnmeldeformularAnmeldung bis spätestens Montag 2. Februar 2026                   Kontakt:Jost Christianegt@tboe.ch
END:VEVENT
END:VCALENDAR