BEGIN:VCALENDAR
VERSION:2.0
PRODID:-//eventon.com NONSGML v1.0//EN
BEGIN:VEVENT
UID:69e88a0ab9706
DTSTAMP:20260422T104250
DTSTART:20260313T220000Z
DTEND:20260314T215900Z
LOCATION:Sporthalle Gotthelf\,  Sustenstrasse 2\,  3604 Thun 
SUMMARY:RG Ittiger-Cup 2026
DESCRIPTION: Da sich die Sporthalle weiterhin im Bau befindet\,  wird der diesjährige Ittiger-Cup in Thun stattfinden.Startmöglichkeiten für folgende KategorienEinzel: P1-P6 regional / P1-P6 nationalGruppen: G1 regional / G1-G4 nationalLaufend aktuelle Informationen sind auf der Homepage der RG IttigenAusschreibungStartlisteRotationenKampfgerichtAnmeldung: Die Anmeldung erfolgt über KSIS unter folgendem Link:https://www.rgform.eu/event.php?id_prop=9750&nbsp;&nbsp;
END:VEVENT
END:VCALENDAR