BEGIN:VCALENDAR
VERSION:2.0
PRODID:-//eventon.com NONSGML v1.0//EN
BEGIN:VEVENT
UID:69eb41d61efac
DTSTAMP:20260424T121134
DTSTART:20251121T220000Z
DTEND:20251122T215900Z
LOCATION:Sporthalle Gotthelf\,  Sustenstrasse 2\,  3604 Thun 
SUMMARY:RG Kyburg-Cup 2025
DESCRIPTION: Startmöglichkeiten für folgende Kategorien:Kategorie Regional und National Einzel P0-P6 - Übungen gem. Absprache VBT Gruppen G0-G4AusschreibungStartlisteRotationenKampfgerichtWichtig: Bitte Gymnastinnen und KARIs anmelden. Zudem bitte Musiken termingerecht hochladen - falsche/ fehlende Musiken bringen den Wettkampf und die Planung in Verzug\,  weshalb eine Mahngebühr erhoben wird.Bitte beachtet\,  dass jeder teilnehmende Verein/ Stützpunkt 2[..]
END:VEVENT
END:VCALENDAR