BEGIN:VCALENDAR
VERSION:2.0
PRODID:-//eventon.com NONSGML v1.0//EN
BEGIN:VEVENT
UID:69e89c2fa5681
DTSTAMP:20260422T120015
DTSTART:20250523T220000Z
DTEND:20250524T215900Z
LOCATION:Dreifach-Sporthalle Kreuzfeld\,  Turnhallenstrasse 20\,  4900 Langenthal 
SUMMARY:RG Langete-Cup 2025
DESCRIPTION: Startmöglichkeiten für folgende Kategorien:Regional und NationalEinzel P1-P6 - Übungen gem. AbspracheGruppen G+ Regional\,  G1-G4 NationalAusschreibung und alle weiteren InformationenStartlisteRotationenJudgesGruppen-TeppichtrainingAnmeldung via KSIS\,  (inkl. Musiken und KARI)
END:VEVENT
END:VCALENDAR