BEGIN:VCALENDAR
VERSION:2.0
PRODID:-//eventon.com NONSGML v1.0//EN
BEGIN:VEVENT
UID:69e8b1cb7c510
DTSTAMP:20260422T133227
DTSTART:20251122T070000Z
DTEND:20251122T110000Z
LOCATION:Sporthalle Schmittengässli\,  Schulhausstrasse 7\,  3210 Kerzers 
SUMMARY:Instruktion neue Disziplinen Fit + Fun ab 2026
DESCRIPTION: Dieser Infoanlass beinhaltet die Erneuerung von den Fit + Fun Disziplinen ab 2026 und wird zusammen mit dem TBM organisiert.Mitnehmen: Sportbekleidung\,  STV-Mitgliederausweis\,  Notiz- und SchreibmaterialAnmeldung: Pro Verein dürfen sich max. 2 Personen anmelden.&nbsp;KontaktFMS Turnfest Teamtf-fms@tb-seeland.ch
END:VEVENT
END:VCALENDAR