BEGIN:VCALENDAR
VERSION:2.0
PRODID:-//eventon.com NONSGML v1.0//EN
BEGIN:VEVENT
UID:69e8b7f6c6f90
DTSTAMP:20260422T135846
DTSTART:20200111T060000Z
DTEND:20200111T143000Z
LOCATION:Turnhallen BBZ Biel 
SUMMARY:Fachtest Richter Ausbildung (FTA\,  FTK\,  FTU\,  FTV)
DESCRIPTION: Alle gemeldeten Vereine sind verpflichtet gemäss den Wettkampfvorschriften ausgebildete Schiedsrichter für die Fachteste zu stellen. Damit die Wettkämpfer und Vereine gute Bedingungen vorfinden\,  werden wir an diesem Kurs in Theorie und Praxis alles nötige Wissen vermitteln und auch persönlich üben. Dazu gehört auch eine kleine Theorieprüfung\,  nebst dem Werten der[..]
END:VEVENT
END:VCALENDAR