BEGIN:VCALENDAR
VERSION:2.0
PRODID:-//eventon.com NONSGML v1.0//EN
BEGIN:VEVENT
UID:69e8c9d8c00b8
DTSTAMP:20260422T151504
DTSTART:20250606T220000Z
DTEND:20250607T215900Z
LOCATION:Sporthalle Esplanade\,  Silbergasse 44\,  2502 Biel 
SUMMARY:Berner Kantonalmeisterschaft Rhythmische Gymnastik 2025
DESCRIPTION: Die diesjährige Berner Kantonalmeisterschaft der Rhythmischen Gymnastik wird in Biel stattfinden und wird von RG Ittigen organisiert.Der Wettkampf ist nun auf KSIS eröffnet.Hier der Link zum KSIS-Event.Somit können sich nun nationale Gymnastinnen\,  Gruppen und KARIs bereits anmelden.Für alle anderen regionalen Gymnastinnen\,  bitten wir die Qualifikations-Liste abzuwarten\,  welche am Sonntag 25.05.[..]
END:VEVENT
END:VCALENDAR