BEGIN:VCALENDAR
VERSION:2.0
PRODID:-//eventon.com NONSGML v1.0//EN
BEGIN:VEVENT
UID:69e8b7c36b0fd
DTSTAMP:20260422T135755
DTSTART:20250124T220000Z
DTEND:20250125T215900Z
LOCATION:Sutz 
SUMMARY:TBS Fortbildungskurs für Muki
DESCRIPTION: Abgesagt\,  es gibt einen MUKI Kurs in Toffen am 15.3.25ZielpublikumAlle Muki-Leiterinnen der Berner-VereineMitbringenBildungspass\,  Notizmaterial\,  Turnzeug\,  Teetasse\,  Picknick\,  VersicherungIst Sache der TeilnehmerInnenKurskostenMitglieder VBT (TBS\,  TBM\,  TBO\,  TBOE\,  AGJB): KeineMitglieder ausserkantonal: Fr. 30.00KontaktCorinne Siegenthaler 078 788 52 87muki@tb-seeland.ch&nbsp;
END:VEVENT
END:VCALENDAR