BEGIN:VCALENDAR
VERSION:2.0
PRODID:-//eventon.com NONSGML v1.0//EN
BEGIN:VEVENT
UID:69e8f70e6b444
DTSTAMP:20260422T182758
DTSTART:20260321T060000Z
DTEND:20260321T100000Z
LOCATION:Leichtathletik-Stadion Wankdorf\,  Bern – Zielgebäude 
SUMMARY:Speakerkurs
DESCRIPTION: Der BLV organisiert einen Speakerkurs. Alle Infos und Anmeldung sind in der Ausschreibung zu finden.Ausschreibung
END:VEVENT
END:VCALENDAR