BEGIN:VCALENDAR
VERSION:2.0
PRODID:-//eventon.com NONSGML v1.0//EN
BEGIN:VEVENT
UID:69e89051a48ff
DTSTAMP:20260422T110937
DTSTART:20200229T063000Z
DTEND:20200229T143000Z
LOCATION:Toffen (Sporthalle Matte) 
SUMMARY:Fortbildungskurs 1 für Leiter/innen Muki Turnen
DESCRIPTION: Kursthemen„Im Riese u Zwärgeland“  „Bäriges“„über kurz und lang“„rund ume Ärdbau“„?????“MitnehmenSTV- Mitgliederkarte\,  STV- Kursausweis (bitte ausgefüllt!)\,  Turnausrüstung\,  Kaffeetasse und MittagslunchSFr. 5.00 für Znüni / Zvieri (Kaffee\,  Früchte\,  Kuchen\,  Mineralwasser\,  Brot)Kosten- TBM-/VBT-Mitglieder: kostenlos - Mitglieder anderer Verbände : CHF 30.--- Nichtverbandsmitglieder: CHF 200.--LeitungRegula Leuenberger\,  Doris Hofstetter\,  Daniela Sägesser\,  Christine GigerAusschreibungAnmeldungNur onlineAnmeldeschluss: 31.01.2020BesonderesE-Mail Anmeldungen werden bestätigt!Bei der[..]
END:VEVENT
END:VCALENDAR