BEGIN:VCALENDAR
VERSION:2.0
PRODID:-//eventon.com NONSGML v1.0//EN
BEGIN:VEVENT
UID:69e889d9b4a80
DTSTAMP:20260422T104201
DTSTART:20260514T070000Z
DTEND:20260514T150000Z
LOCATION:LA Stadion Hard\,  Langenthal 
SUMMARY:Grundkurs für LA-Kampfrichter STV und Swiss Athletic
DESCRIPTION: !!! ACHTUNG !!! Der Grundkurs wird neu vom STV durchgeführtTheorie muss mit E-Learning absolviert werden. Weitere Infos folgen siehe Link AnmeldungZielpublikumRichtet sich an Leichtathletik InteressierteKursbeschreibungGrundausbildung zum Kampfrichter LeichtathletikKostenSTV und Swiss Athletics Mitglieder: KeineNichtmitglieder: CHF 400.00&nbsp;KontaktThomas Hämmerlila@tb-seeland.ch
END:VEVENT
END:VCALENDAR