BEGIN:VCALENDAR
VERSION:2.0
PRODID:-//eventon.com NONSGML v1.0//EN
BEGIN:VEVENT
UID:69e889f47217f
DTSTAMP:20260422T104228
DTSTART:20220319T063000Z
DTEND:20220319T100000Z
LOCATION:Port\,  Mehrzweck-Sporthalle Allmendstrasse 23\,  2562 Port
SUMMARY:Kreiskurs Frauen/Männer 35+
DESCRIPTION: ZielpublikumLeiterinnen und Leiter der Frauen und Männer RiegenProgramm- Gymnastik- gezielte TrainingshäppchenCoronaDa vom Bundesrat alle Massnahmen aufgehoben wurden\,  besteht am Kurs keine Zertifikats- und Maskenpflicht mehr. Wer möchte\,  darf natürlich die Maske weiterhin tragen.VerpflegungEs werden keine Speisen oder Getränke angeboten. Bitte selber mitnehmen.MitbringenSportbekleidung\,  STV-Mitgliederkarte\,  Bildungspass\,  Notiz- und Schreibmaterial\,  Speis und Trank.LeitungTBS[..]
END:VEVENT
END:VCALENDAR