BEGIN:VCALENDAR
VERSION:2.0
PRODID:-//eventon.com NONSGML v1.0//EN
BEGIN:VEVENT
UID:69e89c7581edd
DTSTAMP:20260422T120125
DTSTART:20260313T220000Z
DTEND:20260314T215900Z
LOCATION:Moosseedorf\,  Schulhausstrasse 23\,  3302 Moosseedorf 
SUMMARY:VBT Frühlingskurs 35+ 55+
DESCRIPTION: Dieser VBT FK wird vom TBS durchgeführt.ZielpublikumLeiterinnen und Leiter der 35+ und 55+ Riegen. StundenplanEine Lektion findet bei gutem Wetter draussen statt\,  dementsprechend warme Kleidung mitnehmen.Für die Verpflegung stellt der Korbballklub Moosseedorf einen Kiosk\,  u.a. mit HörnlisalatKurskostenVBT Mitglieder - gratis (TBS\,  TBM\,  TBO\,  TBOE\,  AGJB) Ausserkantonal - CHF 30.00Nicht STV-Mitglied - CHF[..]
END:VEVENT
END:VCALENDAR