BEGIN:VCALENDAR
VERSION:2.0
PRODID:-//eventon.com NONSGML v1.0//EN
BEGIN:VEVENT
UID:69e8b2d61a4c3
DTSTAMP:20260422T133654
DTSTART:20200320T220000Z
DTEND:20200322T215900Z
LOCATION:Ins (Sporthalle Rötschenmatte) 
SUMMARY:26. Seel. Unihockeyturnier Jugend
DESCRIPTION: ABGESAGTJugend Unihockey Turnier von Klein bis Gross. Bis zum Jahrgang 2004 hat es verschiedene Kategorien für Knaben und Mädchen.Richtet sich an Jugendvereine im Seeland\,  welche an einem fairen und interessanten Turnier für Gross und Klein teilnehmen möchten.In Absprache mit der Wettkampfleitung und dem Organisationskomitee können Gastriegen zum Start zugelassen werden. Alle[..]
END:VEVENT
END:VCALENDAR