BEGIN:VCALENDAR
VERSION:2.0
PRODID:-//eventon.com NONSGML v1.0//EN
BEGIN:VEVENT
UID:69e8caefd10dc
DTSTAMP:20260422T151943
DTSTART:20200321T060000Z
DTEND:20200322T160000Z
LOCATION:Toffen (Turnhalle Matte) 
SUMMARY:Grundkurs Muki/Elki des VBT (3-teilig)
DESCRIPTION: ABGESAGTInhaltEs erwartet dich eine methodisch-didaktische Ausbildung auf der Grundlage des Handbuchs Muki Turnen. Mit alters- und leistungsgerechten Beispielen erlernst du die praktische Umsetzung.KurszielVorbereitung und Motivation auf die Leitertätigkeit Muki-Turnstunden planen – durchführen - auswertenKurskostenSTV- Mitglieder: Fr. 350.-Nicht STV- Mitglieder: Fr. 650.-In den Kurskosten sind die Kursunterlagen inbegriffenLeitungExpertinnen aus den Berner Turnverbänden (VBT)VersicherungDie[..]
END:VEVENT
END:VCALENDAR