BEGIN:VCALENDAR
VERSION:2.0
PRODID:-//eventon.com NONSGML v1.0//EN
BEGIN:VEVENT
UID:69e8e1764b387
DTSTAMP:20260422T165550
DTSTART:20250405T080000Z
DTEND:20250405T123000Z
LOCATION:Burgdorf\,  Sporthalle Lindenfeld – Zähringerstrasse 37 
SUMMARY:Kantonaler Fähnrich Kurs
DESCRIPTION: Der TBOE führt einen Fahnenkurs durch\,  der für alle Fähnriche zugelassen ist.Zielpublikum:Nur für Turn-Vereine gedacht (Blasmusikvereine werden nicht zugelassen\,  aufgrund Reglementabweichungen).Ausbildung nach offiziellen STV Fahnen Reglement.Am Schluss erhält jeder TN einen Eintrag in seinen Bildungspass (falls gewünscht)\,  und per Mail die Unterlagen in pdf-Form.MitbringenVereinsfahneHallenschuhe bequemes TenueLeitungJan Christen Anmeldung und alle weiteren Infos[..]
END:VEVENT
END:VCALENDAR