BEGIN:VCALENDAR
VERSION:2.0
PRODID:-//eventon.com NONSGML v1.0//EN
BEGIN:VEVENT
UID:69e8f9c244f25
DTSTAMP:20260422T183930
DTSTART:20200327T220000Z
DTEND:20200328T215900Z
LOCATION:Turnhallen BBZ Biel 
SUMMARY:TBS-Unihockeyturnier Aktive 2020
DESCRIPTION: ABGESAGTEinmaliges Unihockey Turnier für alle Turnvereine des TBS!Die ideale Infrastruktur (zwei Dreifachhallen mit 4 Spielfeldern) bietet die Voraussetzung für ein sportliches Abenteuer ohne lange Wartezeiten bei welchem auch die Schiedsrichter durch den Organisator gestellt werden.Dieses Turnier richtet sich an Turnvereine\,  welche mit einer Aktiv-\,  Mixed- oder Männer-Mannschaft am Unihockey-Turnier teilnehmen möchten.[..]
END:VEVENT
END:VCALENDAR