BEGIN:VCALENDAR
VERSION:2.0
PRODID:-//eventon.com NONSGML v1.0//EN
BEGIN:VEVENT
UID:69e9115c11786
DTSTAMP:20260422T202012
DTSTART:20200328T090000Z
DTEND:20200328T140000Z
LOCATION:Turnhallen BBZ Biel 
SUMMARY:Ball-Spieltag
DESCRIPTION: ABGESAGTDer «neue» Ball-Spieltag ─ aus Freude am SpielIn Deinem Verein werden oft und gerne Ball-Spiele gespielt! Dann ist die der neue Ball-Spieltag genau das Richtige für Euch. Die ideale Plattform um sich mit geleichgesinnten freundschaftlich zu messen.4 Sportarten (Volleyball\,  Korbball\,  Fussball & Unihockey). Jede Mannschaft absolviert zwei Spiele je Sportart. [..]
END:VEVENT
END:VCALENDAR