BEGIN:VCALENDAR
VERSION:2.0
PRODID:-//eventon.com NONSGML v1.0//EN
BEGIN:VEVENT
UID:69e924c24b130
DTSTAMP:20260422T214258
DTSTART:20200328T063000Z
DTEND:20200328T100000Z
LOCATION:Lyss Grien 
SUMMARY:Fortbildungskurs Kampfrichter LA STV und Swiss Athletic
DESCRIPTION: ABGESAGTZielpublikumRichtet sich an die Kampfrichter der LeichtathletikKursbeschreibungFortbildung Kampfrichter LAMitbringenSTV-Mitgliederkarte\,  Kursausweis\,  Notiz- und SchreibmaterialLeitungThomas HämmerliKurskostenKeineAnmeldungOnline-AnmeldungAnmeldeschluss: 01.03.2020KontaktThomas Hämmerli la@tb-seeland.ch
END:VEVENT
END:VCALENDAR