BEGIN:VCALENDAR
VERSION:2.0
PRODID:-//eventon.com NONSGML v1.0//EN
BEGIN:VEVENT
UID:69e93b642ffa3
DTSTAMP:20260422T231932
DTSTART:20200327T220000Z
DTEND:20200329T215900Z
LOCATION:Turnhalle BZI Interlaken 
SUMMARY:Oberländische Gerätemeisterschaft
DESCRIPTION: ABGESAGTInformationen über die Durchführung Startberechtigt:K1 – K4 Turnerinnen und Turner aus dem Kanton BernK5 – KD / KH Turnerinnen und Turner aus der ganzen Schweiz.Startberechtigt in der Kategorie Damen sind alle Turnerinnen ab dem 22. Altersjahr\,  in der Kategorie Herren alle Turner ab dem 28. Altersjahr.Startgeld:Einzelwettkampf: Fr. 27.-- (alle Kategorien)Teamwettkampf:  Fr.[..]
END:VEVENT
END:VCALENDAR