BEGIN:VCALENDAR
VERSION:2.0
PRODID:-//eventon.com NONSGML v1.0//EN
BEGIN:VEVENT
UID:69e889f4ec4e0
DTSTAMP:20260422T104228
DTSTART:20260821T220000Z
DTEND:20260823T215900Z
LOCATION:Sportanlage Geisshubel\,  Alpenstrasse 74\,  3052 Zollikofen 
SUMMARY:Mittellandmeisterschaft Geräteturnen 2026
DESCRIPTION: Der Turn- und Sportverein Vechigen & der Turnverband Bern Mittelland organisieren die diesjährige MMG.Ausschreibung und AnmeldungAlle Infos sind auf der Webseite des Organisators zu finden.
END:VEVENT
END:VCALENDAR