BEGIN:VCALENDAR
VERSION:2.0
PRODID:-//eventon.com NONSGML v1.0//EN
BEGIN:VEVENT
UID:69e9d87af0755
DTSTAMP:20260423T102946
DTSTART:20200508T220000Z
DTEND:20200509T215900Z
LOCATION:Rapperswil BE (Schulanlage) 
SUMMARY:Gymnastik & Team Aerobic Kurs
DESCRIPTION: ABGESAGTRichtet sich an Gymnastik- und Team-Aerobic Vereine Aktive\,  FMS und JugendKursbeschreibungDer Gymnastik & Team Aerobic Kurs bietet den Turnerinnen\,  Turnern und Leitern die Möglichkeit\,  sich im Vorfeld der Turnfestsaison bereits einmal den Wertungsrichtern und dem Publikum zu präsentieren.KostenFr. 50.-- pro Verein/Wettkampfprogramm\,  jedes weitere Wettkampfprogramm plus Fr. 20.--BesonderesJeder Verein turnt sein[..]
END:VEVENT
END:VCALENDAR