BEGIN:VCALENDAR
VERSION:2.0
PRODID:-//eventon.com NONSGML v1.0//EN
BEGIN:VEVENT
UID:69e9c21390783
DTSTAMP:20260423T085411
DTSTART:20200814T220000Z
DTEND:20200815T215900Z
LOCATION:Lyss Grien 
SUMMARY:Die schnällste Seeländer (Swiss Atletics Sprint + Mille Gruyère) 2020
DESCRIPTION: Regionalausscheidung Sparte LA Jugend U8 - U16. Das Wichtigste in Kürze:Disziplinen: 50m/60m/80m Sprint + 1000m Lauf.Dornenlänge an Nagelschuhen: max. 6mm.Versicherung ist Sache der Teilnehmenden.AusschreibungStartlisteRichtzeitplanLive-ResultateSchutzkonzeptSituationsplan Grien
END:VEVENT
END:VCALENDAR