BEGIN:VCALENDAR
VERSION:2.0
PRODID:-//eventon.com NONSGML v1.0//EN
BEGIN:VEVENT
UID:69e9add886932
DTSTAMP:20260423T072752
DTSTART:20200605T220000Z
DTEND:20200614T215900Z
LOCATION:Täuffelen 
SUMMARY:Seeländisches Turnfest 2020
DESCRIPTION: Die Seeländische Jugendturntage und die Seeländische Turntage finden 2020 in Täuffelen statt.Laufend werden auf der offiziellen Webseite weitere Informationen publiziert.
END:VEVENT
END:VCALENDAR