BEGIN:VCALENDAR
VERSION:2.0
PRODID:-//eventon.com NONSGML v1.0//EN
BEGIN:VEVENT
UID:69e9967f0afd7
DTSTAMP:20260423T054815
DTSTART:20200815T063000Z
DTEND:20200815T160000Z
LOCATION:Lyss Grien 
SUMMARY:Seel. Nachwuchsmehrkampf und UBS Kids Cup - wird evt. in den Herbst verschoben
DESCRIPTION: ABGESAGT\,  wird nicht verschoben Seeländischer Nachwuchsmehrkampf mit integriertem UBS Kids Cup.Sparte Leichtathletik Jugend U8 - U16\,  das Wichtigste in Kürze:Leichtathletik: 60m\,  1000mBallwurfWeitsprungAusschreibung und Anmeldung:folgtAnmeldeschluss31.07.2020Kontakt:Mathias Wyssla-wettkampf@tb-seeland.ch
END:VEVENT
END:VCALENDAR