BEGIN:VCALENDAR
VERSION:2.0
PRODID:-//eventon.com NONSGML v1.0//EN
BEGIN:VEVENT
UID:69e98279a9db2
DTSTAMP:20260423T042249
DTSTART:20260905T110000Z
DTEND:20260905T150000Z
LOCATION:Ins (Sporthalle Rötschenmatte) 
SUMMARY:1. Schiedsrichterkurs Volleyball 2026
DESCRIPTION: ZielpublikumVereine\,  die an der Wintermeisterschaft Volleyball teilnehmenKursbeschreibungSchiedsrichterkurs Volleyball10:45 Theorieprüfung der Anfänger13:00 Beginn für alle praktisches Pfeifen plus Theorie.MitnehmenSchreibzeug\,  Sportbekleidung und Schiedsrichterpfeife. Kurskosten- Mitglieder TBS (TBM\,  TBO\,  TBOE): Keine- Mitglieder ausserkantonal: Fr. 30.--BesonderesAnfänger müssen die theoretische Prüfung am Morgen bestehen und den\,  am Nachmittag praktischen Wiederholungskurs besuchen\,  um an der Wintermeisterschaft pfeifen[..]
END:VEVENT
END:VCALENDAR