BEGIN:VCALENDAR
VERSION:2.0
PRODID:-//eventon.com NONSGML v1.0//EN
BEGIN:VEVENT
UID:69e99b8487b13
DTSTAMP:20260423T060940
DTSTART:20201011T110000Z
DTEND:20201011T150000Z
LOCATION:Ins 
SUMMARY:2. Schiedsrichterkurs Volleyball
DESCRIPTION: ZielpublikumVereine die an der Wintermeiterschaft Volleyball teinnehmenKursbeschreibungSchiedsrichterkurs Volleyball10:45 Theorieprüfung der Anfänger13:00 Beginn für alle praktisches Pfeifen plus Theorie.MitnehmenSchreibzeug\,  Sportbekleidung und Schiedsrichterpfeife. Kurskosten- Mitglieder TBS (TBM\,  TBO\,  TBOE): Keine- Mitglieder ausserkantonal: Fr. 30.--BesonderesAnfänger müssen die Theoretische Prüfung am Morgen bestehen und den am Nachmittag Praktischen Wiederholungskurs besuchen um an der Wintermeisterschaft pfeifen[..]
END:VEVENT
END:VCALENDAR