BEGIN:VCALENDAR
VERSION:2.0
PRODID:-//eventon.com NONSGML v1.0//EN
BEGIN:VEVENT
UID:69e9b47cc2a48
DTSTAMP:20260423T075612
DTSTART:20200424T220000Z
DTEND:20200425T215900Z
LOCATION:Nidau\,  Schulhaus Burgerbeunden 
SUMMARY:Seeländischer Jugendspieltag
DESCRIPTION: ABGESAGTAngebotKorbball\,  Volleyball\,  Ball über die SchnurTeilnahme Am Seeländischen Jugendspieltag können alle schulpflichtigen Mädchen und Knaben\,  welche Mitglied einer Jugend- oderMädchenriege im Turnverband Bern Seeland sind\,  teilnehmen. In Absprache mit der Wettkampfleitung und dem Organisator können Gastvereine zum Start zugelassen werden.AusschreibungAnmeldeformularSpielregelnAnmeldeschluss 15. Februar 2020
END:VEVENT
END:VCALENDAR