BEGIN:VCALENDAR
VERSION:2.0
PRODID:-//eventon.com NONSGML v1.0//EN
BEGIN:VEVENT
UID:69e9b36bdfbdc
DTSTAMP:20260423T075139
DTSTART:20250510T070000Z
DTEND:20250510T140000Z
LOCATION:Worben\,  Mehrzweckhalle 
SUMMARY:Grundkurs für neue Richter Fit + Fun 2025
DESCRIPTION: Dieser Kurs beinhaltet die Ausbildung neuer Richter Fit + FunFür eine erfolgreiche Ausbildung zum brevetierten Fit+Fun Richter/in benötigt es:- Grundkurs inkl. bestehen des schriftlichen Abschlusstests- Schatteneinsatz Fit+Fun an einem Turnfest (gilt nicht als Einsatz sondern gehört zur Ausbildung)- Besuch des FK Fit+Fun im darauffolgenden JahrErst wenn alle 3 Teile in[..]
END:VEVENT
END:VCALENDAR