BEGIN:VCALENDAR
VERSION:2.0
PRODID:-//eventon.com NONSGML v1.0//EN
BEGIN:VEVENT
UID:69e99cf0a203c
DTSTAMP:20260423T061544
DTSTART:20200424T220000Z
DTEND:20200425T215900Z
LOCATION:Meinisberg 
SUMMARY:Fit und Fun Modul 3 (für brevetierte Fit+Fun Richter) der neuen 4 Aufgaben
DESCRIPTION: ABGESAGTDieser Kurs ist obligatorisch für brevetierte Fit und Fun Kampfrichter. Die Teilnahme ist entweder am Morgen\,  08:00 Uhr – 12:30 Uhroder am Nachmittag\,  12:30 Uhr – 17:00 Uhr\,  möglich. Bitte bei der Anmeldung entscheiden.Mitbringen:Sportbekleidung\,  STV-Mitgliederkarte\,  Bildungspass\,  Notiz- und Schreibmaterial\,  Weisungen Fit+Fun 2020\,  Schiedsrichterausrüstung (Timer\,  Pfeiffe\,  „Drückerli“\,  Schreibunterlage/Klemmbrett)Kurskosten:- Mitglieder TBS (TBM\,  TBO\,  TBOE):[..]
END:VEVENT
END:VCALENDAR