BEGIN:VCALENDAR
VERSION:2.0
PRODID:-//eventon.com NONSGML v1.0//EN
BEGIN:VEVENT
UID:69e986ab25922
DTSTAMP:20260423T044043
DTSTART:20260530T070000Z
DTEND:20260530T101500Z
LOCATION:Dreifach Turnhalle Neumatt: Neumattstrasse 33\,  3123 Belp 
SUMMARY:Fortbildungskurs Richter Fit + Fun 2026 Vormittag
DESCRIPTION: Der Kurs wird gemeinsam mit dem TBM und TBO durchgeführt. Es können sich maximal 90 Teilnehmer anmelden.‼️ Wichtige Info: Der Fortbildungskurs 2026 ist für alle Richter obligatorisch! Ausschreibung und AnmeldungKurskosten:- Mitglieder VBT (TBS\,  TBM\,  TBO\,  TBOE\,  AGJB): Keine- Mitglieder ausserkantonal: Fr. 30.--Bemerkung:Kursteilnehmer beherrschen die Weisungen Fit+Fun 2026 Ausgabe 1 und Anhang Richter/innen[..]
END:VEVENT
END:VCALENDAR