BEGIN:VCALENDAR
VERSION:2.0
PRODID:-//eventon.com NONSGML v1.0//EN
BEGIN:VEVENT
UID:69e9570aa01fa
DTSTAMP:20260423T011730
DTSTART:20200320T220000Z
DTEND:20200321T215900Z
LOCATION:Büren a.A. (Sporthalle) 
SUMMARY:Kinderturnen Spiel- und Plauschtag
DESCRIPTION: ABGESAGTLiebe LeiterInnen von KiTu-GruppenKommst Du mit Deiner Gruppe zum Spiel- und Plauschtag?KostenDu kannst für jedes Deiner Kinder einen Spielpass lösen (CHF 5.00)\,  wenn er gefüllt ist\,  können die Kinder als Erinnerung einen tollen Preis abholen.HinweisUm einen reibungslosen Ablauf der vielen Spielstationen sicher zu stellen\,  bitten wir Dich bei der Anmeldung[..]
END:VEVENT
END:VCALENDAR