BEGIN:VCALENDAR
VERSION:2.0
PRODID:-//eventon.com NONSGML v1.0//EN
BEGIN:VEVENT
UID:69e940b8eb706
DTSTAMP:20260422T234216
DTSTART:20200403T220000Z
DTEND:20200404T215900Z
LOCATION:Koppigen 
SUMMARY:Grund- und Fortbildungskurs Kampfrichter Nationalturnen
DESCRIPTION: ABGESAGTDies ist ein Grund- und Fortbildungskurs für Kampfrichter im Vereinsturnen NationalturnenAusschreibung und Anmeldung GrundkursAusschreibung und Anmeldung Fortbildungskurs
END:VEVENT
END:VCALENDAR