BEGIN:VCALENDAR
VERSION:2.0
PRODID:-//eventon.com NONSGML v1.0//EN
BEGIN:VEVENT
UID:69e92a91c77bd
DTSTAMP:20260422T220745
DTSTART:20201030T220000Z
DTEND:20201031T215900Z
LOCATION:Mehrzweck-Sporthalle Port Allmendstrasse 23\,  2562 Port
SUMMARY:Kantonaler Herbstkurs Männer 35+ & 55+ VBT
DESCRIPTION: ABGESAGTDer kantonale Herbstkurs findet in diesem Jahr im Seeland statt.Ausschreibung&nbsp;Kontakt:Sandra ObergsellTBS Geschäftsstelle Ausbildunggs-ausbildung@tb-seeland.ch
END:VEVENT
END:VCALENDAR