BEGIN:VCALENDAR
VERSION:2.0
PRODID:-//eventon.com NONSGML v1.0//EN
BEGIN:VEVENT
UID:69e9162327e65
DTSTAMP:20260422T204035
DTSTART:20200810T173000Z
DTEND:20200810T200000Z
LOCATION:Lyss\,  Hotel Weisses Kreuz Marktplatz 15
SUMMARY:11. Schiedsrichter-Anfängerkurs Volleyball
DESCRIPTION: ABGESAGT WEGEN ZU WENIG TEILNEHMERKursbeschreibung:Regelkunde und Vorbereitung auf die Schiedsrichter-Prüfung.Alle Teilnehmer bekommen einen Fragebogen zugeschickt. Dieser Fragebogen muss bis am 10. August durchgearbeitet sein\,  damit wir nur noch Unklarheiten besprechen können.Mitbringen:Notiz- und Schreibmaterial\,  Regelbuch Swiss Volley (Ausgabe 2017-2020)Kurskosten:• Mitglieder TBS (TBM\,  TBO\,  TBOE): Keine • Mitglieder ausserkantonal: CHF 30.00Kontakt:Markus Mosermm.moser@gmx.ch
END:VEVENT
END:VCALENDAR