BEGIN:VCALENDAR
VERSION:2.0
PRODID:-//eventon.com NONSGML v1.0//EN
BEGIN:VEVENT
UID:69e8ff35c1269
DTSTAMP:20260422T190245
DTSTART:20250919T220000Z
DTEND:20250921T215900Z
LOCATION:AARfit Halle\,  Aareweg\,  3270 Aarberg 
SUMMARY:Seelandmeisterschaften Geräteturnen
DESCRIPTION: Die Seelandmeisterschaften 2025 im Geräteturnen wird vom TV Aarberg organisiert.AusschreibungDie Anmeldung und weitere Informationen findet man auf der Homepage des Organisators. 
END:VEVENT
END:VCALENDAR