BEGIN:VCALENDAR
VERSION:2.0
PRODID:-//eventon.com NONSGML v1.0//EN
BEGIN:VEVENT
UID:69e8e8b939b8a
DTSTAMP:20260422T172649
DTSTART:20261017T220000Z
DTEND:20261018T215900Z
LOCATION:Turnhallen BBZ Biel\,  Wasenstrasse 11\,  2504 Biel 
SUMMARY:J+S Leiterkurs MF Turnen
DESCRIPTION: Die Anmeldung für den J+S Leiterkurs MF Turnen erfolgt durch den Vereins-Coach über die offizielle Baspo Webseite&nbsp;Kurs Nr. STV-69 1062747.3720-2ParkplätzeDer Parkplatz Gurzelen steht nicht mehr zur Verfügung. Bitte ÖV benützen oder Fahrgemeinschaften bilden.Rund um das BBZ ist blaue Zone.&nbsp;KontaktSandra Obergsellgs-ausbildung@tb-seeland.ch&nbsp;
END:VEVENT
END:VCALENDAR