BEGIN:VCALENDAR
VERSION:2.0
PRODID:-//eventon.com NONSGML v1.0//EN
BEGIN:VEVENT
UID:69e8cf32528e5
DTSTAMP:20260422T153754
DTSTART:20200911T220000Z
DTEND:20200912T215900Z
LOCATION:Toffen (Sporthalle Matte) 
SUMMARY:Fortbildungskurs 2 für Leiter/innen Muki Turnen
DESCRIPTION: ABGESAGTDieser Kurs wird vom TBM durchgeführt.Alle Informationen dazu findet Ihr in der Ausschreibung.Ausschreibung_FK2_2020&nbsp;
END:VEVENT
END:VCALENDAR