BEGIN:VCALENDAR
VERSION:2.0
PRODID:-//eventon.com NONSGML v1.0//EN
BEGIN:VEVENT
UID:69e8b82c176d6
DTSTAMP:20260422T135940
DTSTART:20200930T220000Z
DTEND:20201031T215900Z
LOCATION:Verschiedene 
SUMMARY:Korbball Herren Wintermeisterschaft 2020/21
DESCRIPTION: Die Hallenkorbball Meisterschaft der Herren wird in diesem Winter zusammen mit dem TBM durchgeführt.Sie dauert von Oktober 2020 bis Februar 2021.Neue Mannschaften sind herzlich willkommen.AusschreibungAnmeldungSpielreglementSpielplanAlle weiteren Informationen findet Ihr hier.
END:VEVENT
END:VCALENDAR