BEGIN:VCALENDAR
VERSION:2.0
PRODID:-//eventon.com NONSGML v1.0//EN
BEGIN:VEVENT
UID:69e8a08a55290
DTSTAMP:20260422T121850
DTSTART:20250930T220000Z
DTEND:20251001T215900Z
LOCATION:Verschiedene 
SUMMARY:Volleyball Damen Wintermeisterschaft 2025/26
DESCRIPTION: Die Wintermeisterschaft der Damen findet vom Oktober 2025 bis März 2026 statt.Alle Informationen findet ihr in der Ausschreibung.Wir freuen uns auf viele Anmeldungen.Ausschreibung&nbsp;
END:VEVENT
END:VCALENDAR