BEGIN:VCALENDAR
VERSION:2.0
PRODID:-//eventon.com NONSGML v1.0//EN
BEGIN:VEVENT
UID:69e85e9e6fe57
DTSTAMP:20260422T073734
DTSTART:20250930T220000Z
DTEND:20251001T215900Z
LOCATION:Verschiedene 
SUMMARY:HALLENKORBBALL - MEISTERSCHAFT Knaben 2025/2026
DESCRIPTION: Die gemeinsame Knaben-Hallenkorbball-Meisterschaft des TBM\,  TBS\,  TBO und TBOE findet zum 8. Mal statt.Spielberechtigt sind in der Kategorie U17 die Jahrgänge 2009 und jünger und in der Kategorie U14 Jahrgang 2012 und jünger.Alle weiteren Informationen und Anmeldung sind in der Ausschreibung zu finden.Ausschreibung und Anmeldung&nbsp;
END:VEVENT
END:VCALENDAR