BEGIN:VCALENDAR
VERSION:2.0
PRODID:-//eventon.com NONSGML v1.0//EN
BEGIN:VEVENT
UID:69e8b7c859f84
DTSTAMP:20260422T135800
DTSTART:20250930T220000Z
DTEND:20251001T215900Z
LOCATION:Verschiedene 
SUMMARY:Volleyball Herren / Mixed Wintermeisterschaft 2025/26
DESCRIPTION: Die Volleyball Hallen-Wintermeisterschaft der Herren und Mixed findet von Oktober 2025 bis März 2026 statt.Alle Informationen findet Ihr in der AusschreibungAnmeldung&nbsp;
END:VEVENT
END:VCALENDAR