BEGIN:VCALENDAR
VERSION:2.0
PRODID:-//eventon.com NONSGML v1.0//EN
BEGIN:VEVENT
UID:69e8ccb6b3362
DTSTAMP:20260422T152718
DTSTART:20201030T220000Z
DTEND:20201031T215900Z
LOCATION:Moosseedorf 
SUMMARY:Kantonaler Herbstkurs Frauen 35+ & 55+ VBT
DESCRIPTION: ABGESAGTDer kantonale Frauen Herbstkurs  wird vom TBM organisiert und findet in Moosseedorf statt.Alle Informationen und Anmeldung findet Ihr in der Ausschreibung.Ausschreibung&nbsp;&nbsp;
END:VEVENT
END:VCALENDAR