BEGIN:VCALENDAR
VERSION:2.0
PRODID:-//eventon.com NONSGML v1.0//EN
BEGIN:VEVENT
UID:69e8e55c9d699
DTSTAMP:20260422T171228
DTSTART:20201030T220000Z
DTEND:20201031T215900Z
LOCATION:Verschiedene 
SUMMARY:Mädchen - Jugend - HALLENKORBBALL - MEISTERSCHAFT 2020/2021
DESCRIPTION: Die gemeinsame Mädchen-Hallenkorbball-Meisterschaft des TBM\,  TBS und TBOE findet zum 12. Mal statt.Spielberechtigt sind in der Kategorie U16 die Jahrgänge 2005 und jünger und in der Kategorie U14 Jahrgang 2007 und jünger.Alle weiteren Informationen und Anmeldung sind in der Ausschreibung zu finden.Ausschreibung und Anmeldung
END:VEVENT
END:VCALENDAR