BEGIN:VCALENDAR
VERSION:2.0
PRODID:-//eventon.com NONSGML v1.0//EN
BEGIN:VEVENT
UID:69e8f89868028
DTSTAMP:20260422T183432
DTSTART:20240531T220000Z
DTEND:20240602T215900Z
LOCATION:Kallnach 
SUMMARY:Seeländische Jugendturntage 2024
DESCRIPTION: Die Seeländischen Jugendturntage 2024 finden in Kallnach statt.Alle Informationen findet man auf der offiziellen Homepage des Organisators.&nbsp;&nbsp;&nbsp;
END:VEVENT
END:VCALENDAR