BEGIN:VCALENDAR
VERSION:2.0
PRODID:-//eventon.com NONSGML v1.0//EN
BEGIN:VEVENT
UID:69e91190d66ac
DTSTAMP:20260422T202104
DTSTART:20240606T220000Z
DTEND:20240609T215900Z
LOCATION:Kallnach 
SUMMARY:Seeländisches Turnfest 2024
DESCRIPTION: Das Seeländische Turnfest 2024 findet in Kallnach statt.Alle Informationen findet man auf der offiziellen Homepage des Organisators.Hier findet Ihr die Disziplinenbeschreibung Einzelwettkampf Frauen/Männer/Senioren.
END:VEVENT
END:VCALENDAR